BEGIN:VCALENDAR
VERSION:2.0
PRODID:-//Me to You Oslo - ECPv6.15.11//NONSGML v1.0//EN
CALSCALE:GREGORIAN
METHOD:PUBLISH
X-ORIGINAL-URL:https://me2you.tv
X-WR-CALDESC:Me to You Oslo renginiai
REFRESH-INTERVAL;VALUE=DURATION:PT1H
X-Robots-Tag:noindex
X-PUBLISHED-TTL:PT1H
BEGIN:VTIMEZONE
TZID:Europe/Oslo
BEGIN:DAYLIGHT
TZOFFSETFROM:+0100
TZOFFSETTO:+0200
TZNAME:CEST
DTSTART:20230326T010000
END:DAYLIGHT
BEGIN:STANDARD
TZOFFSETFROM:+0200
TZOFFSETTO:+0100
TZNAME:CET
DTSTART:20231029T010000
END:STANDARD
BEGIN:DAYLIGHT
TZOFFSETFROM:+0100
TZOFFSETTO:+0200
TZNAME:CEST
DTSTART:20240331T010000
END:DAYLIGHT
BEGIN:STANDARD
TZOFFSETFROM:+0200
TZOFFSETTO:+0100
TZNAME:CET
DTSTART:20241027T010000
END:STANDARD
BEGIN:DAYLIGHT
TZOFFSETFROM:+0100
TZOFFSETTO:+0200
TZNAME:CEST
DTSTART:20250330T010000
END:DAYLIGHT
BEGIN:STANDARD
TZOFFSETFROM:+0200
TZOFFSETTO:+0100
TZNAME:CET
DTSTART:20251026T010000
END:STANDARD
BEGIN:DAYLIGHT
TZOFFSETFROM:+0100
TZOFFSETTO:+0200
TZNAME:CEST
DTSTART:20260329T010000
END:DAYLIGHT
BEGIN:STANDARD
TZOFFSETFROM:+0200
TZOFFSETTO:+0100
TZNAME:CET
DTSTART:20261025T010000
END:STANDARD
END:VTIMEZONE
BEGIN:VEVENT
DTSTART;TZID=Europe/Oslo:20250125T190000
DTEND;TZID=Europe/Oslo:20250125T230000
DTSTAMP:20260421T172538
CREATED:20250106T222316Z
LAST-MODIFIED:20250502T203703Z
UID:10000021-1737831600-1737846000@me2you.tv
SUMMARY:Protų mūšio šou Sandnes. Sausio 25 diena
DESCRIPTION:Ko gero intelektualiausias ir interaktyviausias šou visoje Norvegijoje – „Protų mūšio šou“ grįžta į Sandnes (Rogaland) pirmam 2025 metų renginiui. \n• 4 valandų intelektuali ir interaktyvi programa• Nuostabi publika• Charizmatiškas vedėjas• Daug vertingų prizų \nLauksime jūsų sausio 25 d. „Syd Vest“ renginių erdvėje\, Sandnes mieste (Rogaland).*Komandoje gali būti daugiausiai 6 žmonės
URL:https://me2you.tv/event/protu-musio-sou-sandnes-sausio-25-diena/
LOCATION:Syd Vest Sandnes\, Havnegata 15\, Sandnes\, 4306
ORGANIZER;CN="Galima ir %C4%8Dia":MAILTO:galima.ir.cia@gmail.com
END:VEVENT
BEGIN:VEVENT
DTSTART;TZID=Europe/Oslo:20241213T190000
DTEND;TZID=Europe/Oslo:20241213T230000
DTSTAMP:20260421T172538
CREATED:20241117T124956Z
LAST-MODIFIED:20250502T203843Z
UID:10000020-1734116400-1734130800@me2you.tv
SUMMARY:Kalėdinis Protų mūšis Osle. Gruodžio 13 diena
DESCRIPTION:Ko gero interaktyviausias šou visoje Norvegijoje – „Protų mūšio šou“ tęsia savo 8-ąjį sezoną. \nKalėdinis renginys Osle – gruodžio 13 d. \nDidelė ir moderni salė Oslo centre\, charizmatiškas vedėjas ir šventinė programa jūsų lauks gruodžio 13 d. „Grønland Boulebar & Spiseri“. \nRegistruok 6 žmonių komandą ir sudalyvauk legendiniame renginyje.
URL:https://me2you.tv/event/kaledinis-protmusis-osle-gruodzio-13-diena/
LOCATION:Grønland Boulebar\, Grønlandsleiret 27\, Oslo\, 0190\, Norway
ORGANIZER;CN="Galima ir %C4%8Dia":MAILTO:galima.ir.cia@gmail.com
END:VEVENT
BEGIN:VEVENT
DTSTART;TZID=Europe/Oslo:20241115T190000
DTEND;TZID=Europe/Oslo:20241115T230000
DTSTAMP:20260421T172538
CREATED:20241031T091014Z
LAST-MODIFIED:20250502T204535Z
UID:10000019-1731697200-1731711600@me2you.tv
SUMMARY:Protų mūšio šou Sandefjord\, Lapkričio 15 diena
DESCRIPTION:Ko gero interaktyviausias renginys visoje Norvegijoje Protų mūšio šou\, Lapkričio 15 dieną lankysis Vestfolde. \nKeturių valandų programa\, charizmatiškas vedėjas\, daug prizų bei jaukus baras Sandefjorde Corner Fun Bar\, lauks jūsų Lapkričio 15 dieną. \nSuburk 6 žmonių komandą ir sudalyvauk renginye\, kuris skaičiuoja jau 8 sezoną!
URL:https://me2you.tv/event/protu-musis-sandefjord-lapkricio-15-diena/
LOCATION:Corner Fun Bar Sandefjord\, Aagaards Plass 1\, Sandefjord\, 3211
ORGANIZER;CN="Galima ir %C4%8Dia":MAILTO:galima.ir.cia@gmail.com
END:VEVENT
BEGIN:VEVENT
DTSTART;TZID=Europe/Oslo:20241101T190000
DTEND;TZID=Europe/Oslo:20241101T230000
DTSTAMP:20260421T172538
CREATED:20241010T165407Z
LAST-MODIFIED:20250502T204724Z
UID:10000018-1730487600-1730502000@me2you.tv
SUMMARY:Protų mūšio šou Sandnes. Haloween
DESCRIPTION:Ko gero intelektualiausias ir interaktyviausias šou visoje Norvegijoje – „Protų mūšio šou“ grįžta į Sandnes (Rogaland) Helovino renginiui! \n• 4 valandų interaktyvi programa Helovino tematika• Geriausio kostiumo rinkimai• Daug atrakcijų ir žaidimų• Vertingi prizai \nLauksime jūsų lapkričio 1 d. „Syd Vest“ renginių erdvėje\, Rogalande.*Komandoje gali būti daugiausiai 6 žmonės
URL:https://me2you.tv/event/protu-musio-sou-sandnes-haloween/
LOCATION:Syd Vest Sandnes\, Havnegata 15\, Sandnes\, 4306
ORGANIZER;CN="Galima ir %C4%8Dia":MAILTO:galima.ir.cia@gmail.com
END:VEVENT
BEGIN:VEVENT
DTSTART;TZID=Europe/Oslo:20241018T190000
DTEND;TZID=Europe/Oslo:20241018T230000
DTSTAMP:20260421T172538
CREATED:20240929T080031Z
LAST-MODIFIED:20250502T204852Z
UID:10000017-1729278000-1729292400@me2you.tv
SUMMARY:Protų mūšio šou Osle. Spalio 18 diena
DESCRIPTION:Ko gero interaktyviausias šou visoje Norvegijoje – „Protų mūšio šou“ tęsia savo 8-ąjį sezoną. \nArtimiausias susitikimas Osle – spalio 18 d. \nDidelė ir moderni salė Grøndlando rajone\, charizmatiškas vedėjas ir 4 valandų programa jūsų lauks rugpjūčio 30 d. „Grønland Boulebar & Spiseri“. \nRegistruok 6 žmonių komandą ir sudalyvauk legendiniame renginyje.
URL:https://me2you.tv/event/protu-musis-osle-spalio-18-diena/
LOCATION:Grønland Boulebar\, Grønlandsleiret 27\, Oslo\, 0190\, Norway
ORGANIZER;CN="Galima ir %C4%8Dia":MAILTO:galima.ir.cia@gmail.com
END:VEVENT
BEGIN:VEVENT
DTSTART;TZID=Europe/Oslo:20240906T190000
DTEND;TZID=Europe/Oslo:20240906T230000
DTSTAMP:20260421T172538
CREATED:20240802T214706Z
LAST-MODIFIED:20250502T205154Z
UID:10000014-1725649200-1725663600@me2you.tv
SUMMARY:Protų mūšio šou Sandnes. Rugsėjo 6 diena
DESCRIPTION:Ko gero interaktyviausias renginys visoje Norvegijoje Protų mūšio šou\, Rugsėjo 6 dieną atvyksta į Sandnes miestą! \nPačiame miesto centre esanti renginių erdvė\, charizmatiškas vedėjas ir keturių valandų interaktyvi ir intelektuali programa laukia jūsų Rugsėjo 6 dieną\, Syd Vest Sandnes. \nPriregistruok 6 žmonių komandą ir sudalyvauk legendiniame renginyje!
URL:https://me2you.tv/event/protu-musis-sandnes-rugsejo-6/
LOCATION:Syd Vest Sandnes\, Havnegata 15\, Sandnes\, 4306
ORGANIZER;CN="Galima ir %C4%8Dia":MAILTO:galima.ir.cia@gmail.com
END:VEVENT
BEGIN:VEVENT
DTSTART;TZID=Europe/Oslo:20240830T190000
DTEND;TZID=Europe/Oslo:20240830T230000
DTSTAMP:20260421T172538
CREATED:20240728T210641Z
LAST-MODIFIED:20250502T205242Z
UID:10000012-1725044400-1725058800@me2you.tv
SUMMARY:Protų mūšio šou Osle. 8 sezono startas
DESCRIPTION:Ko gero interaktyviausias šou visoje Norvegijoje Protų mūšio šou\, Osle startuoja su 8 sezonu \nDidelė ir moderni salė Grøndlando rajone\, charizmatiškas vedėjas ir keturių valandų programa laukia jūsų Rugpjūčio 30 dieną\, Grønland Boulebar & Spiseri. \nPriregistruok 6 žmonių komandą ir sudalyvauk legendiniame renginyje
URL:https://me2you.tv/event/8-sezono-startas-osle/
LOCATION:Grønland Boulebar\, Grønlandsleiret 27\, Oslo\, 0190\, Norway
ORGANIZER;CN="Galima ir %C4%8Dia":MAILTO:galima.ir.cia@gmail.com
END:VEVENT
BEGIN:VEVENT
DTSTART;TZID=Europe/Oslo:20240524T190000
DTEND;TZID=Europe/Oslo:20240524T230000
DTSTAMP:20260421T172538
CREATED:20240428T130145Z
LAST-MODIFIED:20250502T210318Z
UID:10000011-1716577200-1716591600@me2you.tv
SUMMARY:Protų mūšio šou Oslo\, Gegužės 24 d
DESCRIPTION:Rugsėjo 15 d. (sekmadienį)\, „SALT Langhuset“ \n• Vedėjas – Mantas Simaitis• 2 valandų interaktyvus pokalbių šou• Startas – 16:00• Renginio partneris – UTEcomfort
URL:https://me2you.tv/event/oslo-protu-musis-geguzes-24/
LOCATION:Grønland Boulebar\, Grønlandsleiret 27\, Oslo\, 0190\, Norway
ORGANIZER;CN="Galima ir %C4%8Dia":MAILTO:galima.ir.cia@gmail.com
END:VEVENT
BEGIN:VEVENT
DTSTART;TZID=Europe/Oslo:20240510T190000
DTEND;TZID=Europe/Oslo:20240510T230000
DTSTAMP:20260421T172538
CREATED:20240418T222726Z
LAST-MODIFIED:20250502T210454Z
UID:10000010-1715367600-1715382000@me2you.tv
SUMMARY:Protų mūšio šou Larvik\, Gegužės 10 diena
DESCRIPTION:Septintą sezoną skaičiuojantis\, ko gero interaktyviausias šou visoje Norvegijoje Protų mūšis\, pirmą kartą atkeliauja į Larvik (Telemarką)! \nDidelis modernus naktinis klubas\, charizmatiškas vedėjas ir keturių valandų interaktyvi programa laukia jūsų Gegužės 10 dieną\, Hansemann Larvik naktiniame klube. \nPriregistruok 6 žmonių komandą ir sudalyvauk legendiniame renginyje
URL:https://me2you.tv/event/protu-musis-larvik-geguzes-10-d/
LOCATION:Hansemann\, Kongegata 33\, Larvik\, 3256
ORGANIZER;CN="Galima ir %C4%8Dia":MAILTO:galima.ir.cia@gmail.com
END:VEVENT
BEGIN:VEVENT
DTSTART;TZID=Europe/Oslo:20240419T190000
DTEND;TZID=Europe/Oslo:20240419T230000
DTSTAMP:20260421T172538
CREATED:20240313T232940Z
LAST-MODIFIED:20250502T210629Z
UID:10000009-1713553200-1713567600@me2you.tv
SUMMARY:Protų mūšio šou Sandnes\, Balandžio 19 diena
DESCRIPTION:Septintą sezoną skaičiuojantis\, ko gero interaktyviausias šou visoje Norvegijoje Protų mūšis\, atkeliauja į Sandnes (Rogalandą)! \nDidelė moderni erdvė\, charizmatiškas vedėjas ir keturių valandų interaktyvi programa laukia jūsų Balandžio 19 dieną\, Syd Vest Sandnes didžiojoje salėje. \nPriregistruok 6 žmonių komandą ir sudalyvauk legendiniame renginyje
URL:https://me2you.tv/event/protu-musis-sandnes-balandzio-19-diena/
LOCATION:Syd Vest Sandnes\, Havnegata 15\, Sandnes\, 4306
ORGANIZER;CN="Galima ir %C4%8Dia":MAILTO:galima.ir.cia@gmail.com
END:VEVENT
BEGIN:VEVENT
DTSTART;TZID=Europe/Oslo:20240405T190000
DTEND;TZID=Europe/Oslo:20240405T231500
DTSTAMP:20260421T172538
CREATED:20240305T142135Z
LAST-MODIFIED:20250502T210739Z
UID:10000008-1712343600-1712358900@me2you.tv
SUMMARY:Protų mūšio šou Osle. Balandžio 5 diena
DESCRIPTION:Septintą sezoną skaičiuojantis\, ko gero geriausias šou visoje Norvegijoje Protų mūšis\, keliasi į naujas patalpas! \nDidelė moderni erdvė\, charizmatiškas vedėjas ir kalnas prizų laukia jūsų Balandžio 5 dieną\, Grønland Boulebar vietoje. \nPriregistruok 6 žmonių komandą ir sudalyvauk legendiniame renginyje.
URL:https://me2you.tv/event/protu-musis-osle-balandzio-5-diena/
LOCATION:Grønland Boulebar\, Grønlandsleiret 27\, Oslo\, 0190\, Norway
ATTACH;FMTTYPE=image/png:https://me2you.tv/wp-content/uploads/2024/03/Untitled-design-13.png
ORGANIZER;CN="Galima ir %C4%8Dia":MAILTO:galima.ir.cia@gmail.com
END:VEVENT
BEGIN:VEVENT
DTSTART;TZID=Europe/Oslo:20240209T190000
DTEND;TZID=Europe/Oslo:20240209T230000
DTSTAMP:20260421T172538
CREATED:20240115T205416Z
LAST-MODIFIED:20250502T210914Z
UID:10000007-1707505200-1707519600@me2you.tv
SUMMARY:Protų mūšio šou Sandnes\, Vasario 9 diena
DESCRIPTION:Septintą sezoną skaičiuojantis\, ko gero interaktyviausias šou visoje Norvegijoje Protų mūšis\, atkeliauja į Sandnes (Rogalandą)! \nDidelė moderni erdvė\, charizmatiškas vedėjas ir keturių valandų interaktyvi programa laukia jūsų Vasario 9 dieną\, Syd Vest Sandnes pagrindinėje salėje. \nPriregistruok 6 žmonių komandą ir sudalyvauk legendiniame renginyje
URL:https://me2you.tv/event/protu-musis-sandnes-vasario-9-diena/
LOCATION:Syd Vest Sandnes\, Havnegata 15\, Sandnes\, 4306
ORGANIZER;CN="Galima ir %C4%8Dia":MAILTO:galima.ir.cia@gmail.com
END:VEVENT
BEGIN:VEVENT
DTSTART;TZID=Europe/Oslo:20240202T190000
DTEND;TZID=Europe/Oslo:20240202T230000
DTSTAMP:20260421T172538
CREATED:20240110T021051Z
LAST-MODIFIED:20250502T211039Z
UID:10000006-1706900400-1706914800@me2you.tv
SUMMARY:Protų mūšio šou Osle Vasario 2 diena
DESCRIPTION:Septintą sezoną skaičiuojantis\, ko gero geriausias šou visoje Norvegijoje Protų mūšis\, keliasi į naujas patalpas! \nDidelė moderni erdvė\, charizmatiškas vedėjas ir kalnas prizų laukia jūsų Vasario 2 dieną\, Grønland Boulebar vietoje. \nPriregistruok 6 žmonių komandą ir sudalyvauk legendiniame renginyje.
URL:https://me2you.tv/event/protu-musio-sou-osle-vasario-2-diena/
LOCATION:Grønland Boulebar\, Grønlandsleiret 27\, Oslo\, 0190\, Norway
ATTACH;FMTTYPE=image/jpeg:https://me2you.tv/wp-content/uploads/2024/01/PR3_bilietai3.jpg
ORGANIZER;CN="Galima ir %C4%8Dia":MAILTO:galima.ir.cia@gmail.com
END:VEVENT
END:VCALENDAR